BEGIN:VCALENDAR
VERSION:2.0
PRODID:-//Dandyplans - ECPv6.15.18//NONSGML v1.0//EN
CALSCALE:GREGORIAN
METHOD:PUBLISH
X-ORIGINAL-URL:https://dandyplans.com
X-WR-CALDESC:Events for Dandyplans
REFRESH-INTERVAL;VALUE=DURATION:PT1H
X-Robots-Tag:noindex
X-PUBLISHED-TTL:PT1H
BEGIN:VTIMEZONE
TZID:America/Chicago
BEGIN:DAYLIGHT
TZOFFSETFROM:-0600
TZOFFSETTO:-0500
TZNAME:CDT
DTSTART:20250309T080000
END:DAYLIGHT
BEGIN:STANDARD
TZOFFSETFROM:-0500
TZOFFSETTO:-0600
TZNAME:CST
DTSTART:20251102T070000
END:STANDARD
BEGIN:DAYLIGHT
TZOFFSETFROM:-0600
TZOFFSETTO:-0500
TZNAME:CDT
DTSTART:20260308T080000
END:DAYLIGHT
BEGIN:STANDARD
TZOFFSETFROM:-0500
TZOFFSETTO:-0600
TZNAME:CST
DTSTART:20261101T070000
END:STANDARD
BEGIN:DAYLIGHT
TZOFFSETFROM:-0600
TZOFFSETTO:-0500
TZNAME:CDT
DTSTART:20270314T080000
END:DAYLIGHT
BEGIN:STANDARD
TZOFFSETFROM:-0500
TZOFFSETTO:-0600
TZNAME:CST
DTSTART:20271107T070000
END:STANDARD
END:VTIMEZONE
BEGIN:VEVENT
DTSTART;VALUE=DATE:20260608
DTEND;VALUE=DATE:20260808
DTSTAMP:20260425T062143
CREATED:20260409T021624Z
LAST-MODIFIED:20260416T170838Z
UID:10001132-1780876800-1786147199@dandyplans.com
SUMMARY:Lyons Township High School (North Campus)
DESCRIPTION:All registrations for the 2026 Summer Academic Program will be completed at www.lths.net/summer In-District Registration: Beginning on February 16\, 2026 at 12:00 p.m.\, online registrations for the 2026 Summer Academic Program will be accepted.  Activities include\, but not limited to: Badmiton\, Band camp\, baseball\, basketball\, bowling\, cheerleading\, choral\, cooking\, debate camp\, flag football\, fotball\, golf-girls\, gymnastics\, lacrosse\, learn-to-swim\, orchestra summer camp\, rock climbing\, sewing\, soccer\, softball\, volleyball\, water polo\, wrestling\, and more
URL:https://dandyplans.com/camp/lyons-township-high-school-north-campus-2/
LOCATION:Lyons Township High School (North Campus)\, 100 South Brainard Ave\, La Grange\, IL\, 60525
CATEGORIES:Summer 2026
GEO:41.8113964;-87.8801365
X-APPLE-STRUCTURED-LOCATION;VALUE=URI;X-ADDRESS=Lyons Township High School (North Campus) 100 South Brainard Ave La Grange IL 60525;X-APPLE-RADIUS=500;X-TITLE=100 South Brainard Ave:geo:-87.8801365,41.8113964
END:VEVENT
END:VCALENDAR