BEGIN:VCALENDAR
VERSION:2.0
PRODID:-//Dandyplans - ECPv6.15.18//NONSGML v1.0//EN
CALSCALE:GREGORIAN
METHOD:PUBLISH
X-WR-CALNAME:Dandyplans
X-ORIGINAL-URL:https://dandyplans.com
X-WR-CALDESC:Events for Dandyplans
REFRESH-INTERVAL;VALUE=DURATION:PT1H
X-Robots-Tag:noindex
X-PUBLISHED-TTL:PT1H
BEGIN:VTIMEZONE
TZID:America/Chicago
BEGIN:DAYLIGHT
TZOFFSETFROM:-0600
TZOFFSETTO:-0500
TZNAME:CDT
DTSTART:20250309T080000
END:DAYLIGHT
BEGIN:STANDARD
TZOFFSETFROM:-0500
TZOFFSETTO:-0600
TZNAME:CST
DTSTART:20251102T070000
END:STANDARD
BEGIN:DAYLIGHT
TZOFFSETFROM:-0600
TZOFFSETTO:-0500
TZNAME:CDT
DTSTART:20260308T080000
END:DAYLIGHT
BEGIN:STANDARD
TZOFFSETFROM:-0500
TZOFFSETTO:-0600
TZNAME:CST
DTSTART:20261101T070000
END:STANDARD
BEGIN:DAYLIGHT
TZOFFSETFROM:-0600
TZOFFSETTO:-0500
TZNAME:CDT
DTSTART:20270314T080000
END:DAYLIGHT
BEGIN:STANDARD
TZOFFSETFROM:-0500
TZOFFSETTO:-0600
TZNAME:CST
DTSTART:20271107T070000
END:STANDARD
END:VTIMEZONE
BEGIN:VEVENT
DTSTART;VALUE=DATE:20260706
DTEND;VALUE=DATE:20260711
DTSTAMP:20260425T061406
CREATED:20260409T021640Z
LAST-MODIFIED:20260409T024137Z
UID:10001138-1783296000-1783727999@dandyplans.com
SUMMARY:Chicago Cubs Baseball Summer Camps
DESCRIPTION:Get ready for four awesome days filled with games\, friendly competitions\, and unforgettable Cubs-themed activities—plus a day-long trip to the historic Wrigley Field! Whether you’re picking up a glove for the first time or already love playing ball\, camp is all about having fun\, trying new things\, and being part of a team. Campers will make new friends\, learn from amazing coaches\, and celebrate their love for baseball!
URL:https://dandyplans.com/camp/chicago-cubs-baseball-summer-camps-5/
LOCATION:Lake Forest Academy\, 1500 Kennedy Rd\, Lake Forest\, IL\, 60045
CATEGORIES:Summer 2026
GEO:42.248041;-87.8908133
X-APPLE-STRUCTURED-LOCATION;VALUE=URI;X-ADDRESS=Lake Forest Academy 1500 Kennedy Rd Lake Forest IL 60045;X-APPLE-RADIUS=500;X-TITLE=1500 Kennedy Rd:geo:-87.8908133,42.248041
END:VEVENT
BEGIN:VEVENT
DTSTART;VALUE=DATE:20260706
DTEND;VALUE=DATE:20260711
DTSTAMP:20260425T061406
CREATED:20260416T170853Z
LAST-MODIFIED:20260416T170853Z
UID:10001218-1783296000-1783727999@dandyplans.com
SUMMARY:Chicago Cubs Baseball Summer Camps (Lake Forest)
DESCRIPTION:Get ready for four awesome days filled with games\, friendly competitions\, and unforgettable Cubs-themed activities—plus a day-long trip to the historic Wrigley Field! Whether you’re picking up a glove for the first time or already love playing ball\, camp is all about having fun\, trying new things\, and being part of a team. Campers will make new friends\, learn from amazing coaches\, and celebrate their love for baseball!
URL:https://dandyplans.com/camp/chicago-cubs-baseball-summer-camps-lake-forest/
LOCATION:Lake Forest Academy\, 1500 Kennedy Rd\, Lake Forest\, IL\, 60045
CATEGORIES:Summer 2026
GEO:42.248041;-87.8908133
X-APPLE-STRUCTURED-LOCATION;VALUE=URI;X-ADDRESS=Lake Forest Academy 1500 Kennedy Rd Lake Forest IL 60045;X-APPLE-RADIUS=500;X-TITLE=1500 Kennedy Rd:geo:-87.8908133,42.248041
END:VEVENT
END:VCALENDAR