BEGIN:VCALENDAR
VERSION:2.0
PRODID:-//Dandyplans - ECPv6.15.18//NONSGML v1.0//EN
CALSCALE:GREGORIAN
METHOD:PUBLISH
X-ORIGINAL-URL:https://dandyplans.com
X-WR-CALDESC:Events for Dandyplans
REFRESH-INTERVAL;VALUE=DURATION:PT1H
X-Robots-Tag:noindex
X-PUBLISHED-TTL:PT1H
BEGIN:VTIMEZONE
TZID:America/Chicago
BEGIN:DAYLIGHT
TZOFFSETFROM:-0600
TZOFFSETTO:-0500
TZNAME:CDT
DTSTART:20250309T080000
END:DAYLIGHT
BEGIN:STANDARD
TZOFFSETFROM:-0500
TZOFFSETTO:-0600
TZNAME:CST
DTSTART:20251102T070000
END:STANDARD
BEGIN:DAYLIGHT
TZOFFSETFROM:-0600
TZOFFSETTO:-0500
TZNAME:CDT
DTSTART:20260308T080000
END:DAYLIGHT
BEGIN:STANDARD
TZOFFSETFROM:-0500
TZOFFSETTO:-0600
TZNAME:CST
DTSTART:20261101T070000
END:STANDARD
BEGIN:DAYLIGHT
TZOFFSETFROM:-0600
TZOFFSETTO:-0500
TZNAME:CDT
DTSTART:20270314T080000
END:DAYLIGHT
BEGIN:STANDARD
TZOFFSETFROM:-0500
TZOFFSETTO:-0600
TZNAME:CST
DTSTART:20271107T070000
END:STANDARD
END:VTIMEZONE
BEGIN:VEVENT
DTSTART;TZID=America/Chicago:20260713T000000
DTEND;TZID=America/Chicago:20260717T000000
DTSTAMP:20260419T083244
CREATED:20260409T021822Z
LAST-MODIFIED:20260416T171038Z
UID:10001170-1783900800-1784246400@dandyplans.com
SUMMARY:Bricks 4 Kidz (Chesterfield)
DESCRIPTION:Ignite your child’s curiosity\, fuel their passion and unlock their full potential with our STEAM programs\, in an environment where learning is celebrated\, friendships are made and tomorrow’s innovators are shaped. \nOur Camps with LEGO® will Break the School Holiday Boredom!\nLet your child make the most of their school holidays with the Bricks 4 Kidz camps. Inspired by the idea of edutainment\, our unique camps build a strong interest in STEAM for kids aged 5-13 while having fun. Children will enjoy using LEGO® Bricks to build specially-designed Bricks 4 Kidz models\, play fun games and explore the world of engineering\, architecture\, robotics\, coding\, video game design\, animated movie-making\, and more. \n✔ Engaging camp themes \n✔ Screened and trained instructors \n✔ The best child:staff ratio around
URL:https://dandyplans.com/camp/bricks-4-kidz-chesterfield-2/
LOCATION:Kehrs Mill Elementary\, 2650 Kehrs Mill Rd\, Chesterfield\, MO\, 63017
CATEGORIES:Summer 2026
GEO:38.6194506;-90.5760288
X-APPLE-STRUCTURED-LOCATION;VALUE=URI;X-ADDRESS=Kehrs Mill Elementary 2650 Kehrs Mill Rd Chesterfield MO 63017;X-APPLE-RADIUS=500;X-TITLE=2650 Kehrs Mill Rd:geo:-90.5760288,38.6194506
END:VEVENT
END:VCALENDAR