BEGIN:VCALENDAR
VERSION:2.0
PRODID:-//Dandyplans - ECPv6.15.18//NONSGML v1.0//EN
CALSCALE:GREGORIAN
METHOD:PUBLISH
X-ORIGINAL-URL:https://dandyplans.com
X-WR-CALDESC:Events for Dandyplans
REFRESH-INTERVAL;VALUE=DURATION:PT1H
X-Robots-Tag:noindex
X-PUBLISHED-TTL:PT1H
BEGIN:VTIMEZONE
TZID:America/Chicago
BEGIN:DAYLIGHT
TZOFFSETFROM:-0600
TZOFFSETTO:-0500
TZNAME:CDT
DTSTART:20250309T080000
END:DAYLIGHT
BEGIN:STANDARD
TZOFFSETFROM:-0500
TZOFFSETTO:-0600
TZNAME:CST
DTSTART:20251102T070000
END:STANDARD
BEGIN:DAYLIGHT
TZOFFSETFROM:-0600
TZOFFSETTO:-0500
TZNAME:CDT
DTSTART:20260308T080000
END:DAYLIGHT
BEGIN:STANDARD
TZOFFSETFROM:-0500
TZOFFSETTO:-0600
TZNAME:CST
DTSTART:20261101T070000
END:STANDARD
BEGIN:DAYLIGHT
TZOFFSETFROM:-0600
TZOFFSETTO:-0500
TZNAME:CDT
DTSTART:20270314T080000
END:DAYLIGHT
BEGIN:STANDARD
TZOFFSETFROM:-0500
TZOFFSETTO:-0600
TZNAME:CST
DTSTART:20271107T070000
END:STANDARD
END:VTIMEZONE
BEGIN:VEVENT
DTSTART;VALUE=DATE:20260601
DTEND;VALUE=DATE:20260815
DTSTAMP:20260419T084515
CREATED:20260213T174740Z
LAST-MODIFIED:20260416T164215Z
UID:10000832-1780272000-1786751999@dandyplans.com
SUMMARY:Climb So iLL Full-Day Sessions (St. Louis)
DESCRIPTION:Campers engage in several activities throughout the day. They learn proper climbing etiquette and technique before developing these skills during the week. They also play games such as toga ball\, four-square\, and gaga ball which are supplemented with arts\, crafts\, and other downtime activities. Campers are supervised at all times by our team of dedicated counselors. \nHalf-Day Sessions\n9:00 a.m. – 12:00 p.m. or 12:30 – 3:30 p.m.\nMembers: $195\nNon-Members: $230 \nFull-Day Sessions\n9:00 a.m. – 3:30 p.m.\nMembers: $314\nNon-Members: $370
URL:https://dandyplans.com/camp/climb-so-ill-full-day-sessions-st-louis/
LOCATION:Climb So Ill Power Plant (St. Louis)\, 1419 Carroll Street\, St. Louis\, MO\, 63104
CATEGORIES:Summer 2026
ATTACH;FMTTYPE=image/jpeg:https://dandyplans.com/wp-content/uploads/2026/01/happy-kids-and-teacher-at-school.jpg
GEO:38.6150273;-90.2077375
X-APPLE-STRUCTURED-LOCATION;VALUE=URI;X-ADDRESS=Climb So Ill Power Plant (St. Louis) 1419 Carroll Street St. Louis MO 63104;X-APPLE-RADIUS=500;X-TITLE=1419 Carroll Street:geo:-90.2077375,38.6150273
END:VEVENT
END:VCALENDAR