BEGIN:VCALENDAR
VERSION:2.0
PRODID:-//Dandyplans - ECPv6.15.18//NONSGML v1.0//EN
CALSCALE:GREGORIAN
METHOD:PUBLISH
X-WR-CALNAME:Dandyplans
X-ORIGINAL-URL:https://dandyplans.com
X-WR-CALDESC:Events for Dandyplans
REFRESH-INTERVAL;VALUE=DURATION:PT1H
X-Robots-Tag:noindex
X-PUBLISHED-TTL:PT1H
BEGIN:VTIMEZONE
TZID:America/Chicago
BEGIN:DAYLIGHT
TZOFFSETFROM:-0600
TZOFFSETTO:-0500
TZNAME:CDT
DTSTART:20250309T080000
END:DAYLIGHT
BEGIN:STANDARD
TZOFFSETFROM:-0500
TZOFFSETTO:-0600
TZNAME:CST
DTSTART:20251102T070000
END:STANDARD
BEGIN:DAYLIGHT
TZOFFSETFROM:-0600
TZOFFSETTO:-0500
TZNAME:CDT
DTSTART:20260308T080000
END:DAYLIGHT
BEGIN:STANDARD
TZOFFSETFROM:-0500
TZOFFSETTO:-0600
TZNAME:CST
DTSTART:20261101T070000
END:STANDARD
BEGIN:DAYLIGHT
TZOFFSETFROM:-0600
TZOFFSETTO:-0500
TZNAME:CDT
DTSTART:20270314T080000
END:DAYLIGHT
BEGIN:STANDARD
TZOFFSETFROM:-0500
TZOFFSETTO:-0600
TZNAME:CST
DTSTART:20271107T070000
END:STANDARD
END:VTIMEZONE
BEGIN:VEVENT
DTSTART;VALUE=DATE:20260518
DTEND;VALUE=DATE:20260808
DTSTAMP:20260425T061428
CREATED:20260409T021537Z
LAST-MODIFIED:20260416T170235Z
UID:10001118-1779062400-1786147199@dandyplans.com
SUMMARY:Chaminade Summer Camps
DESCRIPTION:Calling all boys and girls in grades 2 through 12 — get ready for an unforgettable summer packed with fun\, learning\, and new friendships. Chaminade Summer Camps offer a diverse range of activities tailored to suit every interest and passion. For the sports enthusiasts\, our athletic camps provide expert coaching and a chance to enhance skills in basketball\, soccer\, baseball\, and more. Unleash your creativity in our arts camps\, where budding artists can explore pottery\, drawing\, drama\, and music. Our Academic and STEM camps offer a unique blend of learning and enjoyment\, ensuring a productive and engaging summer.
URL:https://dandyplans.com/camp/chaminade-summer-camps-2/
LOCATION:Chaminade College Preparatory School\, 425 S. Lindbergh Boulevard\, Saint Louis\, MO\, 63131
CATEGORIES:Summer 2026
GEO:38.6496402;-90.4068117
X-APPLE-STRUCTURED-LOCATION;VALUE=URI;X-ADDRESS=Chaminade College Preparatory School 425 S. Lindbergh Boulevard Saint Louis MO 63131;X-APPLE-RADIUS=500;X-TITLE=425 S. Lindbergh Boulevard:geo:-90.4068117,38.6496402
END:VEVENT
END:VCALENDAR