BEGIN:VCALENDAR
VERSION:2.0
PRODID:-//Dandyplans - ECPv6.15.18//NONSGML v1.0//EN
CALSCALE:GREGORIAN
METHOD:PUBLISH
X-WR-CALNAME:Dandyplans
X-ORIGINAL-URL:https://dandyplans.com
X-WR-CALDESC:Events for Dandyplans
REFRESH-INTERVAL;VALUE=DURATION:PT1H
X-Robots-Tag:noindex
X-PUBLISHED-TTL:PT1H
BEGIN:VTIMEZONE
TZID:America/Chicago
BEGIN:DAYLIGHT
TZOFFSETFROM:-0600
TZOFFSETTO:-0500
TZNAME:CDT
DTSTART:20250309T080000
END:DAYLIGHT
BEGIN:STANDARD
TZOFFSETFROM:-0500
TZOFFSETTO:-0600
TZNAME:CST
DTSTART:20251102T070000
END:STANDARD
BEGIN:DAYLIGHT
TZOFFSETFROM:-0600
TZOFFSETTO:-0500
TZNAME:CDT
DTSTART:20260308T080000
END:DAYLIGHT
BEGIN:STANDARD
TZOFFSETFROM:-0500
TZOFFSETTO:-0600
TZNAME:CST
DTSTART:20261101T070000
END:STANDARD
BEGIN:DAYLIGHT
TZOFFSETFROM:-0600
TZOFFSETTO:-0500
TZNAME:CDT
DTSTART:20270314T080000
END:DAYLIGHT
BEGIN:STANDARD
TZOFFSETFROM:-0500
TZOFFSETTO:-0600
TZNAME:CST
DTSTART:20271107T070000
END:STANDARD
END:VTIMEZONE
BEGIN:VEVENT
DTSTART;VALUE=DATE:20260608
DTEND;VALUE=DATE:20260808
DTSTAMP:20260425T080116
CREATED:20260409T021623Z
LAST-MODIFIED:20260416T170838Z
UID:10001131-1780876800-1786147199@dandyplans.com
SUMMARY:Brookfield Zoo Chicago
DESCRIPTION:A Summer of Adventure Awaits\nZoo Camp is proud to offer 15 scholarships this summer! Scholarships include one week of camp per child. Zoo Camp is designed for children in grades PreK–8. Full day Zoo Camp sessions run Monday through Friday\, 9:00 a.m. – 3:30 p.m.
URL:https://dandyplans.com/camp/brookfield-zoo-chicago-2/
LOCATION:Brookfield Zoo Chicago\, 3300 Golf Rd.\, Brookfield\, IL\, 60513
CATEGORIES:Summer 2026
GEO:41.8311583;-87.8383357
X-APPLE-STRUCTURED-LOCATION;VALUE=URI;X-ADDRESS=Brookfield Zoo Chicago 3300 Golf Rd. Brookfield IL 60513;X-APPLE-RADIUS=500;X-TITLE=3300 Golf Rd.:geo:-87.8383357,41.8311583
END:VEVENT
END:VCALENDAR